BEGIN:VCALENDAR
VERSION:2.0
PRODID:-//Russo Law Group - ECPv6.15.20//NONSGML v1.0//EN
CALSCALE:GREGORIAN
METHOD:PUBLISH
X-ORIGINAL-URL:https://vjrussolaw.com
X-WR-CALDESC:Events for Russo Law Group
REFRESH-INTERVAL;VALUE=DURATION:PT1H
X-Robots-Tag:noindex
X-PUBLISHED-TTL:PT1H
BEGIN:VTIMEZONE
TZID:America/New_York
BEGIN:DAYLIGHT
TZOFFSETFROM:-0500
TZOFFSETTO:-0400
TZNAME:EDT
DTSTART:20220313T070000
END:DAYLIGHT
BEGIN:STANDARD
TZOFFSETFROM:-0400
TZOFFSETTO:-0500
TZNAME:EST
DTSTART:20221106T060000
END:STANDARD
BEGIN:DAYLIGHT
TZOFFSETFROM:-0500
TZOFFSETTO:-0400
TZNAME:EDT
DTSTART:20230312T070000
END:DAYLIGHT
BEGIN:STANDARD
TZOFFSETFROM:-0400
TZOFFSETTO:-0500
TZNAME:EST
DTSTART:20231105T060000
END:STANDARD
BEGIN:DAYLIGHT
TZOFFSETFROM:-0500
TZOFFSETTO:-0400
TZNAME:EDT
DTSTART:20240310T070000
END:DAYLIGHT
BEGIN:STANDARD
TZOFFSETFROM:-0400
TZOFFSETTO:-0500
TZNAME:EST
DTSTART:20241103T060000
END:STANDARD
END:VTIMEZONE
BEGIN:VEVENT
DTSTART;TZID=America/New_York:20230613T100000
DTEND;TZID=America/New_York:20230613T193000
DTSTAMP:20260423T023733
CREATED:20230405T191044Z
LAST-MODIFIED:20230405T191044Z
UID:10000655-1686650400-1686684600@vjrussolaw.com
SUMMARY:26th Annual Swingin' Fore Theresa Golf Outing & Gala Reception
DESCRIPTION:The Swingin’ Fore Theresa Golf Outing is an annual fundraising event to benefit the Theresa Foundation.  The funds raised from the outing are used to support dance\, art\, music\, and recreation programs for children with special needs like Theresa locally\, and around the country. \nWhether you are an avid golfer\, a novice or not a golfer at all\, we welcome you to join Russo Law Group by participating in the outing or attending the Gala Reception that evening.  You can also support by donating a gift or basket for their raffles\, an item for their Live Auction\, or becoming an Event Sponsor. \nEvent Details\nCheck-in & Brunch @ 10:00 amShot Gun Tee Off @ 12:00 pm Gala Reception @ 5:00 pm \nCLICK HERE for Registration\, Sponsorships\, and Raffle Tickets \nHonoring the Life of Richard J. Shonter\n \nNovember 3\, 1949 – November 29\, 2023 \nRick\, who served on our Board of Directors of the Theresa Foundation (2012 to 2020)\, was the one to lead the way for our Theresa Pooled Trust from its birth to the success story it has been for our Foundation. Rick went beyond the call of duty for the Foundation\, he utilized his business skills and well as his personal skills in leading us in our mission to make a difference in the lives of children with special needs. We will sorely miss Rick and his laugh\, sense of humor\, and good will. \nFor more information…\nContact Elizabeth at elizabeth@theresafoundation.org or 516-432-0200
URL:https://vjrussolaw.com/event/26th-annual-theresa-golf-outing/
LOCATION:North Hills Country Club\, Manhasset\, NY\, 11030\, United States
CATEGORIES:Theresa Foundation
END:VEVENT
END:VCALENDAR