BEGIN:VCALENDAR
VERSION:2.0
PRODID:-//Russo Law Group - ECPv6.15.20//NONSGML v1.0//EN
CALSCALE:GREGORIAN
METHOD:PUBLISH
X-WR-CALNAME:Russo Law Group
X-ORIGINAL-URL:https://vjrussolaw.com
X-WR-CALDESC:Events for Russo Law Group
REFRESH-INTERVAL;VALUE=DURATION:PT1H
X-Robots-Tag:noindex
X-PUBLISHED-TTL:PT1H
BEGIN:VTIMEZONE
TZID:America/New_York
BEGIN:DAYLIGHT
TZOFFSETFROM:-0500
TZOFFSETTO:-0400
TZNAME:EDT
DTSTART:20240310T070000
END:DAYLIGHT
BEGIN:STANDARD
TZOFFSETFROM:-0400
TZOFFSETTO:-0500
TZNAME:EST
DTSTART:20241103T060000
END:STANDARD
BEGIN:DAYLIGHT
TZOFFSETFROM:-0500
TZOFFSETTO:-0400
TZNAME:EDT
DTSTART:20250309T070000
END:DAYLIGHT
BEGIN:STANDARD
TZOFFSETFROM:-0400
TZOFFSETTO:-0500
TZNAME:EST
DTSTART:20251102T060000
END:STANDARD
BEGIN:DAYLIGHT
TZOFFSETFROM:-0500
TZOFFSETTO:-0400
TZNAME:EDT
DTSTART:20260308T070000
END:DAYLIGHT
BEGIN:STANDARD
TZOFFSETFROM:-0400
TZOFFSETTO:-0500
TZNAME:EST
DTSTART:20261101T060000
END:STANDARD
END:VTIMEZONE
BEGIN:VEVENT
DTSTART;TZID=America/New_York:20250220T130000
DTEND;TZID=America/New_York:20250220T133000
DTSTAMP:20260421T162307
CREATED:20250129T144140Z
LAST-MODIFIED:20250314T195353Z
UID:10000963-1740056400-1740058200@vjrussolaw.com
SUMMARY:Free Webinar: "Medicaid Essentials: What You Need to Know for 2025"
DESCRIPTION:Are you concerned about navigating the complexities of Medicaid for yourself or a loved one? \nJoin us for an exclusive webinar where our experienced team will walk you through the critical updates and strategies you need to know. \nTopics we’ll cover: \n\nEligibility Qualifications and Requirements – Understand the criteria for Medicaid eligibility and how to prepare.\nLaw Changes for 2025 – Stay ahead with insights into upcoming changes and what they mean for you.\nMedicaid Asset Protection Trusts – Discover how these trusts can help you protect your assets while maintaining eligibility.\n\nThis webinar is tailored to provide clear\, actionable information to help you make confident decisions about Medicaid planning. Whether you’re applying for the first time or considering next steps\, this session is designed to empower you with knowledge and peace of mind. \nDon’t miss this opportunity to stay informed\, CLICK HERE to secure your spot today!
URL:https://vjrussolaw.com/event/webinar-feb-2025/
LOCATION:Zoom Virtual Meeting
CATEGORIES:Client Portal,Medicaid,Webinar
ORGANIZER;CN="Russo Law Group":MAILTO:info@vjrussolaw.com
END:VEVENT
END:VCALENDAR