BEGIN:VCALENDAR
VERSION:2.0
PRODID:-//Russo Law Group - ECPv6.15.20//NONSGML v1.0//EN
CALSCALE:GREGORIAN
METHOD:PUBLISH
X-WR-CALNAME:Russo Law Group
X-ORIGINAL-URL:https://vjrussolaw.com
X-WR-CALDESC:Events for Russo Law Group
REFRESH-INTERVAL;VALUE=DURATION:PT1H
X-Robots-Tag:noindex
X-PUBLISHED-TTL:PT1H
BEGIN:VTIMEZONE
TZID:America/New_York
BEGIN:DAYLIGHT
TZOFFSETFROM:-0500
TZOFFSETTO:-0400
TZNAME:EDT
DTSTART:20230312T070000
END:DAYLIGHT
BEGIN:STANDARD
TZOFFSETFROM:-0400
TZOFFSETTO:-0500
TZNAME:EST
DTSTART:20231105T060000
END:STANDARD
BEGIN:DAYLIGHT
TZOFFSETFROM:-0500
TZOFFSETTO:-0400
TZNAME:EDT
DTSTART:20240310T070000
END:DAYLIGHT
BEGIN:STANDARD
TZOFFSETFROM:-0400
TZOFFSETTO:-0500
TZNAME:EST
DTSTART:20241103T060000
END:STANDARD
BEGIN:DAYLIGHT
TZOFFSETFROM:-0500
TZOFFSETTO:-0400
TZNAME:EDT
DTSTART:20250309T070000
END:DAYLIGHT
BEGIN:STANDARD
TZOFFSETFROM:-0400
TZOFFSETTO:-0500
TZNAME:EST
DTSTART:20251102T060000
END:STANDARD
END:VTIMEZONE
BEGIN:VEVENT
DTSTART;TZID=America/New_York:20240919T130000
DTEND;TZID=America/New_York:20240919T133000
DTSTAMP:20260422T213133
CREATED:20240822T171319Z
LAST-MODIFIED:20250314T195625Z
UID:10000829-1726750800-1726752600@vjrussolaw.com
SUMMARY:Free Webinar: "From Risk to Security: Understanding Medicaid Asset Protection Trusts"
DESCRIPTION:Join us for our upcoming webinar\, “From Risk to Security: Understanding Medicaid Asset Protection Trusts\,” as experienced Partner Diana Lattanzio\, Esq. discusses how to safeguard your assets from long-term care costs\, the benefits of a Medicaid Asset Protection Trust (MAPT)\, Medicaid eligibility requirements\, and types of Medicaid programs. \nDiana will discuss the following topics: \n\nWhat is a MAPT and How Can It Benefit You?\nMedicaid Eligibility Requirements\nMedicaid Programs\n\nCLICK HERE TO REGISTER
URL:https://vjrussolaw.com/event/webinar-sept-2024/
LOCATION:Zoom Virtual Meeting
CATEGORIES:Client Portal,Facebook Live,Medicaid,Webinar
ORGANIZER;CN="Russo Law Group":MAILTO:info@vjrussolaw.com
END:VEVENT
END:VCALENDAR