BEGIN:VCALENDAR
VERSION:2.0
PRODID:-//Russo Law Group - ECPv6.15.20//NONSGML v1.0//EN
CALSCALE:GREGORIAN
METHOD:PUBLISH
X-ORIGINAL-URL:https://vjrussolaw.com
X-WR-CALDESC:Events for Russo Law Group
REFRESH-INTERVAL;VALUE=DURATION:PT1H
X-Robots-Tag:noindex
X-PUBLISHED-TTL:PT1H
BEGIN:VTIMEZONE
TZID:America/New_York
BEGIN:DAYLIGHT
TZOFFSETFROM:-0500
TZOFFSETTO:-0400
TZNAME:EDT
DTSTART:20250309T070000
END:DAYLIGHT
BEGIN:STANDARD
TZOFFSETFROM:-0400
TZOFFSETTO:-0500
TZNAME:EST
DTSTART:20251102T060000
END:STANDARD
BEGIN:DAYLIGHT
TZOFFSETFROM:-0500
TZOFFSETTO:-0400
TZNAME:EDT
DTSTART:20260308T070000
END:DAYLIGHT
BEGIN:STANDARD
TZOFFSETFROM:-0400
TZOFFSETTO:-0500
TZNAME:EST
DTSTART:20261101T060000
END:STANDARD
BEGIN:DAYLIGHT
TZOFFSETFROM:-0500
TZOFFSETTO:-0400
TZNAME:EDT
DTSTART:20270314T070000
END:DAYLIGHT
BEGIN:STANDARD
TZOFFSETFROM:-0400
TZOFFSETTO:-0500
TZNAME:EST
DTSTART:20271107T060000
END:STANDARD
END:VTIMEZONE
BEGIN:VEVENT
DTSTART;TZID=America/New_York:20260128T130000
DTEND;TZID=America/New_York:20260128T140000
DTSTAMP:20260423T073019
CREATED:20251222T153129Z
LAST-MODIFIED:20260105T175949Z
UID:10001022-1769605200-1769608800@vjrussolaw.com
SUMMARY:Professional Webinar: "New Year\, New Skills: Estate Planning for Healthcare Pros"
DESCRIPTION:As a healthcare professional\, you often find yourself on the front lines of your clients’ most difficult life transitions. While your primary focus is their health and well-being\, questions about legal protections\, asset security\, and future planning frequently arise during these critical moments.\nRegister\, attend\, and earn 1 contact hour — CLICK HERE to secure your spot!\nJoin Russo Law Group for a specialized one-hour webinar\, “New Year\, New Skills: Estate Planning for Healthcare Pros”\, designed specifically for social workers and healthcare professionals. Start the new year by expanding your toolkit with vital estate planning knowledge that empowers you to better advocate for those in your care.\nWhat You Will Learn\n\n\nEstate Planning Fundamentals: Gain a working knowledge of wills\, trusts\, and advance directives relevant to patient care.\nNavigating Client Concerns: Learn how to address common questions about long-term care costs and asset protection with confidence and empathy.\nLegal & Ethical Intersections: Understand the boundaries of your role and how to effectively collaborate with legal professionals to support your client’s best interests.\n\nEarn 1 contact hour for licensed social workers! \nCLICK HERE to reserve your spot today and equip yourself with the expertise to offer holistic support to your clients in the new year. \nSubmit any further questions to Cindy Abrehu at cabrehu@vjrussolaw.com.
URL:https://vjrussolaw.com/event/pro-webinar-jan-2026/
LOCATION:Zoom Virtual Meeting
CATEGORIES:Professional,Webinar
ORGANIZER;CN="Russo Law Group":MAILTO:info@vjrussolaw.com
END:VEVENT
BEGIN:VEVENT
DTSTART;TZID=America/New_York:20260212T130000
DTEND;TZID=America/New_York:20260212T133000
DTSTAMP:20260423T073019
CREATED:20260202T150548Z
LAST-MODIFIED:20260202T150548Z
UID:10001025-1770901200-1770903000@vjrussolaw.com
SUMMARY:Free Webinar: "Medicaid Made Simple: What You Need to Know for 2026"
DESCRIPTION:Planning for long-term care can feel overwhelming\, especially with ever-changing Medicaid rules. Join Russo Law Group for a free\, informative webinar to help you navigate the latest updates and protect your future! \nCLICK HERE to secure your spot! \nIn this webinar\, you will learn: \n\nNew Medicaid Laws for 2026: Key changes and what they mean for you.\nEligibility Requirements: Updated income and asset limits.\nImportant Deadlines: Dates you can’t afford to miss.\nPlanning Tips: How we can help you secure your assets and qualify for benefits.\n\nWho Should Attend? \n\nCaregivers worried about nursing home costs.\nSeniors looking to protect their home and savings.\nFamilies with loved ones requiring government benefits.\nAnd anyone wanting peace of mind about future care!\n\nDon’t miss this opportunity to get your questions answered and gain clarity on Medicaid planning for 2026. CLICK HERE to secure your spot! \nSubmit any further questions to Cindy Abrehu at cabrehu@vjrussolaw.com.
URL:https://vjrussolaw.com/event/webinar-feb-2026/
LOCATION:Zoom Virtual Meeting
CATEGORIES:Client Portal,Medicaid,Webinar
ORGANIZER;CN="Russo Law Group":MAILTO:info@vjrussolaw.com
END:VEVENT
BEGIN:VEVENT
DTSTART;TZID=America/New_York:20260304T130000
DTEND;TZID=America/New_York:20260304T133000
DTSTAMP:20260423T073019
CREATED:20260213T144628Z
LAST-MODIFIED:20260223T170908Z
UID:10001028-1772629200-1772631000@vjrussolaw.com
SUMMARY:Free Webinar: Key Tax Changes for 2025 and Beyond: What Every Family Should Know
DESCRIPTION:Planning your taxes and estate plan for 2026 can be confusing with all the new rules and changes. Join Russo Law Group for a free\, informative webinar to help you understand the latest tax law updates\, how they may impact your finances and legacy planning\, and practical steps you can take now. \nCLICK HERE to secure your spot! \nIn this webinar\, Vincent J. Russo\, Esq. will share: \n\nMajor tax changes for 2025 and what they mean for individuals and families\nNew estate tax rules\, exemptions & planning considerations\nUpdated deductions\, credits\, and retirement implications\nStrategies to protect your assets and minimize tax liability\n\nDon’t miss this opportunity to get your questions answered and gain clarity on how 2025 tax and estate changes may affect you. CLICK HERE to secure your spot! \nSubmit any further questions to Cindy Abrehu at cabrehu@vjrussolaw.com.
URL:https://vjrussolaw.com/event/webinar-march-2026/
LOCATION:Zoom Virtual Meeting
CATEGORIES:Client Portal,Tax,Webinar
ORGANIZER;CN="Russo Law Group":MAILTO:info@vjrussolaw.com
END:VEVENT
END:VCALENDAR