BEGIN:VCALENDAR
VERSION:2.0
PRODID:-//Russo Law Group - ECPv6.15.20//NONSGML v1.0//EN
CALSCALE:GREGORIAN
METHOD:PUBLISH
X-WR-CALNAME:Russo Law Group
X-ORIGINAL-URL:https://vjrussolaw.com
X-WR-CALDESC:Events for Russo Law Group
REFRESH-INTERVAL;VALUE=DURATION:PT1H
X-Robots-Tag:noindex
X-PUBLISHED-TTL:PT1H
BEGIN:VTIMEZONE
TZID:America/New_York
BEGIN:DAYLIGHT
TZOFFSETFROM:-0500
TZOFFSETTO:-0400
TZNAME:EDT
DTSTART:20230312T070000
END:DAYLIGHT
BEGIN:STANDARD
TZOFFSETFROM:-0400
TZOFFSETTO:-0500
TZNAME:EST
DTSTART:20231105T060000
END:STANDARD
BEGIN:DAYLIGHT
TZOFFSETFROM:-0500
TZOFFSETTO:-0400
TZNAME:EDT
DTSTART:20240310T070000
END:DAYLIGHT
BEGIN:STANDARD
TZOFFSETFROM:-0400
TZOFFSETTO:-0500
TZNAME:EST
DTSTART:20241103T060000
END:STANDARD
BEGIN:DAYLIGHT
TZOFFSETFROM:-0500
TZOFFSETTO:-0400
TZNAME:EDT
DTSTART:20250309T070000
END:DAYLIGHT
BEGIN:STANDARD
TZOFFSETFROM:-0400
TZOFFSETTO:-0500
TZNAME:EST
DTSTART:20251102T060000
END:STANDARD
BEGIN:DAYLIGHT
TZOFFSETFROM:-0500
TZOFFSETTO:-0400
TZNAME:EDT
DTSTART:20260308T070000
END:DAYLIGHT
BEGIN:STANDARD
TZOFFSETFROM:-0400
TZOFFSETTO:-0500
TZNAME:EST
DTSTART:20261101T060000
END:STANDARD
END:VTIMEZONE
BEGIN:VEVENT
DTSTART;VALUE=DATE:20250101
DTEND;VALUE=DATE:20250102
DTSTAMP:20260423T022217
CREATED:20250102T175424Z
LAST-MODIFIED:20250102T175741Z
UID:10000952-1735689600-1735775999@vjrussolaw.com
SUMMARY:Office Closed
DESCRIPTION:Russo Law Group will be closed on Wednesday\, January 1st in observance of New Year’s Day. \nWe will be re-opening our offices on Thursday\, January 2nd at 9:00 am ET.
URL:https://vjrussolaw.com/event/office-closed-jan-1-2025/
LOCATION:Holiday
CATEGORIES:Client Portal,Holiday
ORGANIZER;CN="Russo Law Group":MAILTO:info@vjrussolaw.com
END:VEVENT
BEGIN:VEVENT
DTSTART;VALUE=DATE:20241231
DTEND;VALUE=DATE:20250101
DTSTAMP:20260423T022217
CREATED:20210107T212628Z
LAST-MODIFIED:20210414T135748Z
UID:10000433-1735603200-1735689599@vjrussolaw.com
SUMMARY:New Years Eve (Offices Closed)
DESCRIPTION:Please note our offices will be closed in observance of New Years Eve.
URL:https://vjrussolaw.com/event/new-years-eve-2021/2024-12-31/
LOCATION:Holiday
CATEGORIES:Holiday
ORGANIZER;CN="Russo Law Group":MAILTO:info@vjrussolaw.com
END:VEVENT
BEGIN:VEVENT
DTSTART;VALUE=DATE:20241225
DTEND;VALUE=DATE:20241226
DTSTAMP:20260423T022217
CREATED:20231206T192205Z
LAST-MODIFIED:20231206T192205Z
UID:10000721-1735084800-1735171199@vjrussolaw.com
SUMMARY:Office Closed
DESCRIPTION:Russo Law Group will be closed on Wednesday\, December 25th in observance of Christmas Day. \nWe will be re-opening our offices on Thursday\, December 26th at 9:00 am ET.
URL:https://vjrussolaw.com/event/office-closed-dec-25-2024/
LOCATION:Holiday
CATEGORIES:Holiday
ORGANIZER;CN="Russo Law Group":MAILTO:info@vjrussolaw.com
END:VEVENT
BEGIN:VEVENT
DTSTART;VALUE=DATE:20241225
DTEND;VALUE=DATE:20241226
DTSTAMP:20260423T022217
CREATED:20210107T212519Z
LAST-MODIFIED:20210414T135943Z
UID:10000429-1735084800-1735171199@vjrussolaw.com
SUMMARY:Christmas Day
DESCRIPTION:Merry Christmas!
URL:https://vjrussolaw.com/event/christmas-day-2021/2024-12-25/
LOCATION:Holiday
CATEGORIES:Holiday
ORGANIZER;CN="Russo Law Group":MAILTO:info@vjrussolaw.com
END:VEVENT
BEGIN:VEVENT
DTSTART;VALUE=DATE:20241203
DTEND;VALUE=DATE:20241204
DTSTAMP:20260423T022217
CREATED:20231220T173609Z
LAST-MODIFIED:20231220T173609Z
UID:10000765-1733184000-1733270399@vjrussolaw.com
SUMMARY:International Day of Persons with Disabilities
DESCRIPTION:
URL:https://vjrussolaw.com/event/intl-day-of-persons-with-disabilities-2024/
LOCATION:Holiday
CATEGORIES:Holiday
ORGANIZER;CN="Russo Law Group":MAILTO:info@vjrussolaw.com
END:VEVENT
BEGIN:VEVENT
DTSTART;VALUE=DATE:20241203
DTEND;VALUE=DATE:20241204
DTSTAMP:20260423T022217
CREATED:20231220T173201Z
LAST-MODIFIED:20231220T173201Z
UID:10000764-1733184000-1733270399@vjrussolaw.com
SUMMARY:GivingTuesday
DESCRIPTION:
URL:https://vjrussolaw.com/event/giving-tuesday-2024/
LOCATION:Holiday
CATEGORIES:Holiday
ORGANIZER;CN="Russo Law Group":MAILTO:info@vjrussolaw.com
END:VEVENT
BEGIN:VEVENT
DTSTART;VALUE=DATE:20241128
DTEND;VALUE=DATE:20241130
DTSTAMP:20260423T022217
CREATED:20231206T191957Z
LAST-MODIFIED:20231206T191957Z
UID:10000720-1732752000-1732924799@vjrussolaw.com
SUMMARY:Office Closed
DESCRIPTION:Russo Law Group will be closed on Thursday\, November 28th and Friday\, November 29th in observance of Thanksgiving. \nWe will be re-opening our offices on Monday\, December 2nd at 9:00 am ET.
URL:https://vjrussolaw.com/event/office-closed-thanksgiving-2024/
LOCATION:Holiday
CATEGORIES:Holiday
ORGANIZER;CN="Russo Law Group":MAILTO:info@vjrussolaw.com
END:VEVENT
BEGIN:VEVENT
DTSTART;VALUE=DATE:20241128
DTEND;VALUE=DATE:20241129
DTSTAMP:20260423T022217
CREATED:20231206T192340Z
LAST-MODIFIED:20231206T192340Z
UID:10000722-1732752000-1732838399@vjrussolaw.com
SUMMARY:Thanksgiving Day
DESCRIPTION:
URL:https://vjrussolaw.com/event/thanksgiving-2024/
LOCATION:Holiday
CATEGORIES:Holiday
ORGANIZER;CN="Russo Law Group":MAILTO:info@vjrussolaw.com
END:VEVENT
BEGIN:VEVENT
DTSTART;VALUE=DATE:20241111
DTEND;VALUE=DATE:20241112
DTSTAMP:20260423T022217
CREATED:20231220T172308Z
LAST-MODIFIED:20231220T172308Z
UID:10000759-1731283200-1731369599@vjrussolaw.com
SUMMARY:Veteran's Day
DESCRIPTION:
URL:https://vjrussolaw.com/event/veterans-day/2024-11-11/
LOCATION:Holiday
CATEGORIES:Holiday
ORGANIZER;CN="Russo Law Group":MAILTO:info@vjrussolaw.com
END:VEVENT
BEGIN:VEVENT
DTSTART;VALUE=DATE:20241031
DTEND;VALUE=DATE:20241101
DTSTAMP:20260423T022217
CREATED:20231220T172016Z
LAST-MODIFIED:20231220T172016Z
UID:10000754-1730332800-1730419199@vjrussolaw.com
SUMMARY:Halloween
DESCRIPTION:
URL:https://vjrussolaw.com/event/halloween-2/2024-10-31/
LOCATION:Holiday
CATEGORIES:Holiday
ORGANIZER;CN="Russo Law Group":MAILTO:info@vjrussolaw.com
END:VEVENT
BEGIN:VEVENT
DTSTART;VALUE=DATE:20241014
DTEND;VALUE=DATE:20241015
DTSTAMP:20260423T022217
CREATED:20231206T192620Z
LAST-MODIFIED:20231206T192649Z
UID:10000724-1728864000-1728950399@vjrussolaw.com
SUMMARY:Indigenous Peoples' Day
DESCRIPTION:
URL:https://vjrussolaw.com/event/indigenous-peoples-day-2024/
LOCATION:Holiday
CATEGORIES:Holiday
ORGANIZER;CN="Russo Law Group":MAILTO:info@vjrussolaw.com
END:VEVENT
BEGIN:VEVENT
DTSTART;VALUE=DATE:20241014
DTEND;VALUE=DATE:20241015
DTSTAMP:20260423T022217
CREATED:20231206T192522Z
LAST-MODIFIED:20231206T192522Z
UID:10000723-1728864000-1728950399@vjrussolaw.com
SUMMARY:Columbus Day
DESCRIPTION:
URL:https://vjrussolaw.com/event/columbus-day-2024/
LOCATION:Holiday
CATEGORIES:Holiday
ORGANIZER;CN="Russo Law Group":MAILTO:info@vjrussolaw.com
END:VEVENT
BEGIN:VEVENT
DTSTART;VALUE=DATE:20241014
DTEND;VALUE=DATE:20241015
DTSTAMP:20260423T022217
CREATED:20231206T191606Z
LAST-MODIFIED:20231206T191606Z
UID:10000719-1728864000-1728950399@vjrussolaw.com
SUMMARY:Office Closed
DESCRIPTION:Russo Law Group will be closed on Monday\, October 14th in observance of Columbus Day and Indigenous Peoples’ Day. \nWe will be re-opening our offices on Tuesday\, October 15th at 9:00 am ET.
URL:https://vjrussolaw.com/event/office-closed-oct-14-2024/
LOCATION:Holiday
CATEGORIES:Holiday
ORGANIZER;CN="Russo Law Group":MAILTO:info@vjrussolaw.com
END:VEVENT
BEGIN:VEVENT
DTSTART;VALUE=DATE:20240922
DTEND;VALUE=DATE:20240923
DTSTAMP:20260423T022217
CREATED:20231220T171330Z
LAST-MODIFIED:20231220T171330Z
UID:10000753-1726963200-1727049599@vjrussolaw.com
SUMMARY:Falls Prevention Awareness Day
DESCRIPTION:
URL:https://vjrussolaw.com/event/falls-prevention-awareness-day-2024/
LOCATION:Holiday
CATEGORIES:Holiday
ORGANIZER;CN="Russo Law Group":MAILTO:info@vjrussolaw.com
END:VEVENT
BEGIN:VEVENT
DTSTART;VALUE=DATE:20240911
DTEND;VALUE=DATE:20240912
DTSTAMP:20260423T022217
CREATED:20231220T170447Z
LAST-MODIFIED:20231220T170447Z
UID:10000748-1726012800-1726099199@vjrussolaw.com
SUMMARY:9/11 Remembrance Day
DESCRIPTION:
URL:https://vjrussolaw.com/event/9-11-remembrance-day/2024-09-11/
LOCATION:Holiday
CATEGORIES:Holiday
ORGANIZER;CN="Russo Law Group":MAILTO:info@vjrussolaw.com
END:VEVENT
BEGIN:VEVENT
DTSTART;VALUE=DATE:20240908
DTEND;VALUE=DATE:20240909
DTSTAMP:20260423T022217
CREATED:20231220T170319Z
LAST-MODIFIED:20231220T170319Z
UID:10000747-1725753600-1725839999@vjrussolaw.com
SUMMARY:National Grandparents Day
DESCRIPTION:
URL:https://vjrussolaw.com/event/national-grandparents-day-2024/
LOCATION:Holiday
CATEGORIES:Holiday
ORGANIZER;CN="Russo Law Group":MAILTO:info@vjrussolaw.com
END:VEVENT
BEGIN:VEVENT
DTSTART;VALUE=DATE:20240902
DTEND;VALUE=DATE:20240903
DTSTAMP:20260423T022217
CREATED:20231206T192750Z
LAST-MODIFIED:20231206T192750Z
UID:10000725-1725235200-1725321599@vjrussolaw.com
SUMMARY:Labor Day
DESCRIPTION:
URL:https://vjrussolaw.com/event/labor-day-2024/
LOCATION:Holiday
CATEGORIES:Holiday
ORGANIZER;CN="Russo Law Group":MAILTO:info@vjrussolaw.com
END:VEVENT
BEGIN:VEVENT
DTSTART;VALUE=DATE:20240902
DTEND;VALUE=DATE:20240903
DTSTAMP:20260423T022217
CREATED:20231206T191346Z
LAST-MODIFIED:20231206T191346Z
UID:10000718-1725235200-1725321599@vjrussolaw.com
SUMMARY:Office Closed
DESCRIPTION:Russo Law Group will be closed on Monday\, September 2nd in observance of Labor Day. \nWe will be re-opening our offices on Tuesday\, September 3rd at 9:00 am ET.
URL:https://vjrussolaw.com/event/office-closed-labor-day-2024/
LOCATION:Holiday
CATEGORIES:Holiday
ORGANIZER;CN="Russo Law Group":MAILTO:info@vjrussolaw.com
END:VEVENT
BEGIN:VEVENT
DTSTART;VALUE=DATE:20240704
DTEND;VALUE=DATE:20240706
DTSTAMP:20260423T022217
CREATED:20231206T191148Z
LAST-MODIFIED:20240624T144212Z
UID:10000717-1720051200-1720223999@vjrussolaw.com
SUMMARY:Office Closed
DESCRIPTION:Russo Law Group will be closed on Thursday\, July 4th and Friday\, July 5th in observance of Independence Day. \nWe will be re-opening our offices on Monday\, July 8th at 9:00 am ET.
URL:https://vjrussolaw.com/event/office-closed-july-4-2024/
LOCATION:Holiday
CATEGORIES:Holiday
ORGANIZER;CN="Russo Law Group":MAILTO:info@vjrussolaw.com
END:VEVENT
BEGIN:VEVENT
DTSTART;VALUE=DATE:20240704
DTEND;VALUE=DATE:20240705
DTSTAMP:20260423T022217
CREATED:20231206T192912Z
LAST-MODIFIED:20231206T192912Z
UID:10000726-1720051200-1720137599@vjrussolaw.com
SUMMARY:Independence Day
DESCRIPTION:
URL:https://vjrussolaw.com/event/independence-day-2024/
LOCATION:Holiday
CATEGORIES:Holiday
ORGANIZER;CN="Russo Law Group":MAILTO:info@vjrussolaw.com
END:VEVENT
BEGIN:VEVENT
DTSTART;VALUE=DATE:20240628
DTEND;VALUE=DATE:20240629
DTSTAMP:20260423T022217
CREATED:20231220T162526Z
LAST-MODIFIED:20231220T162526Z
UID:10000746-1719532800-1719619199@vjrussolaw.com
SUMMARY:International LGBT Pride Day
DESCRIPTION:
URL:https://vjrussolaw.com/event/international-lgbt-pride-day-2024/
LOCATION:Holiday
CATEGORIES:Holiday
ORGANIZER;CN="Russo Law Group":MAILTO:info@vjrussolaw.com
END:VEVENT
BEGIN:VEVENT
DTSTART;VALUE=DATE:20240619
DTEND;VALUE=DATE:20240620
DTSTAMP:20260423T022217
CREATED:20231206T193422Z
LAST-MODIFIED:20231206T193422Z
UID:10000727-1718755200-1718841599@vjrussolaw.com
SUMMARY:Juneteenth
DESCRIPTION:
URL:https://vjrussolaw.com/event/juneteenth-2024/
LOCATION:Holiday
CATEGORIES:Holiday
ORGANIZER;CN="Russo Law Group":MAILTO:info@vjrussolaw.com
END:VEVENT
BEGIN:VEVENT
DTSTART;VALUE=DATE:20240619
DTEND;VALUE=DATE:20240620
DTSTAMP:20260423T022217
CREATED:20231206T190347Z
LAST-MODIFIED:20231206T190425Z
UID:10000716-1718755200-1718841599@vjrussolaw.com
SUMMARY:Office Closed
DESCRIPTION:Russo Law Group will be closed on Wednesday\, June 19th in observance of Juneteenth. \nWe will be re-opening our offices on Thursday\, June 20th at 9:00 am ET.
URL:https://vjrussolaw.com/event/office-closed-june-19-2024/
LOCATION:Holiday
CATEGORIES:Holiday
ORGANIZER;CN="Russo Law Group":MAILTO:info@vjrussolaw.com
END:VEVENT
BEGIN:VEVENT
DTSTART;VALUE=DATE:20240616
DTEND;VALUE=DATE:20240617
DTSTAMP:20260423T022217
CREATED:20231220T162405Z
LAST-MODIFIED:20231220T162405Z
UID:10000745-1718496000-1718582399@vjrussolaw.com
SUMMARY:Father's Day
DESCRIPTION:
URL:https://vjrussolaw.com/event/fathers-day-2024/
LOCATION:Holiday
CATEGORIES:Holiday
ORGANIZER;CN="Russo Law Group":MAILTO:info@vjrussolaw.com
END:VEVENT
BEGIN:VEVENT
DTSTART;VALUE=DATE:20240527
DTEND;VALUE=DATE:20240528
DTSTAMP:20260423T022217
CREATED:20231129T182618Z
LAST-MODIFIED:20231129T182618Z
UID:10000713-1716768000-1716854399@vjrussolaw.com
SUMMARY:Office Closed
DESCRIPTION:Russo Law Group will be closed on Monday\, May 27th in observance of Memorial Day. \nWe will be re-opening our offices on Tuesday\, May 28th at 9:00 am ET.
URL:https://vjrussolaw.com/event/office-closed-may-27-2024/
LOCATION:Holiday
CATEGORIES:Holiday
ORGANIZER;CN="Russo Law Group":MAILTO:info@vjrussolaw.com
END:VEVENT
BEGIN:VEVENT
DTSTART;VALUE=DATE:20240527
DTEND;VALUE=DATE:20240528
DTSTAMP:20260423T022217
CREATED:20210107T210925Z
LAST-MODIFIED:20220419T201825Z
UID:10000412-1716768000-1716854399@vjrussolaw.com
SUMMARY:Memorial Day (Offices Closed)
DESCRIPTION:Please note our offices will be closed in observance of Memorial Day.
URL:https://vjrussolaw.com/event/memorial-day-2021/2024-05-27/
LOCATION:Holiday
CATEGORIES:Holiday
ATTACH;FMTTYPE=image/jpeg:https://vjrussolaw.com/wp-content/uploads/Russo_HolidayInstagramPosts5.jpg
END:VEVENT
BEGIN:VEVENT
DTSTART;VALUE=DATE:20240512
DTEND;VALUE=DATE:20240513
DTSTAMP:20260423T022217
CREATED:20231220T162040Z
LAST-MODIFIED:20231220T162040Z
UID:10000743-1715472000-1715558399@vjrussolaw.com
SUMMARY:Mother's Day
DESCRIPTION:
URL:https://vjrussolaw.com/event/mothers-day-2024/
LOCATION:Holiday
CATEGORIES:Holiday
ORGANIZER;CN="Russo Law Group":MAILTO:info@vjrussolaw.com
END:VEVENT
BEGIN:VEVENT
DTSTART;VALUE=DATE:20240329
DTEND;VALUE=DATE:20240330
DTSTAMP:20260423T022217
CREATED:20231220T161400Z
LAST-MODIFIED:20231220T161400Z
UID:10000742-1711670400-1711756799@vjrussolaw.com
SUMMARY:National Vietnam War Veterans Day
DESCRIPTION:
URL:https://vjrussolaw.com/event/national-vietnam-war-veterans-day-2024/
LOCATION:Holiday
CATEGORIES:Holiday
ORGANIZER;CN="Russo Law Group":MAILTO:info@vjrussolaw.com
END:VEVENT
BEGIN:VEVENT
DTSTART;VALUE=DATE:20240317
DTEND;VALUE=DATE:20240318
DTSTAMP:20260423T022217
CREATED:20231220T161253Z
LAST-MODIFIED:20231220T161253Z
UID:10000737-1710633600-1710719999@vjrussolaw.com
SUMMARY:St. Patrick's Day
DESCRIPTION:
URL:https://vjrussolaw.com/event/st-patricks-day/2024-03-17/
LOCATION:Holiday
CATEGORIES:Holiday
ORGANIZER;CN="Russo Law Group":MAILTO:info@vjrussolaw.com
END:VEVENT
BEGIN:VEVENT
DTSTART;VALUE=DATE:20240303
DTEND;VALUE=DATE:20240304
DTSTAMP:20260423T022217
CREATED:20231220T161120Z
LAST-MODIFIED:20231220T161120Z
UID:10000736-1709424000-1709510399@vjrussolaw.com
SUMMARY:Caregiver Appreciation Day
DESCRIPTION:
URL:https://vjrussolaw.com/event/caregiver-appreciation-day-2024/
LOCATION:Holiday
CATEGORIES:Holiday
ORGANIZER;CN="Russo Law Group":MAILTO:info@vjrussolaw.com
END:VEVENT
END:VCALENDAR