BEGIN:VCALENDAR
VERSION:2.0
PRODID:-//Russo Law Group - ECPv6.15.20//NONSGML v1.0//EN
CALSCALE:GREGORIAN
METHOD:PUBLISH
X-ORIGINAL-URL:https://vjrussolaw.com
X-WR-CALDESC:Events for Russo Law Group
REFRESH-INTERVAL;VALUE=DURATION:PT1H
X-Robots-Tag:noindex
X-PUBLISHED-TTL:PT1H
BEGIN:VTIMEZONE
TZID:America/New_York
BEGIN:DAYLIGHT
TZOFFSETFROM:-0500
TZOFFSETTO:-0400
TZNAME:EDT
DTSTART:20230312T070000
END:DAYLIGHT
BEGIN:STANDARD
TZOFFSETFROM:-0400
TZOFFSETTO:-0500
TZNAME:EST
DTSTART:20231105T060000
END:STANDARD
BEGIN:DAYLIGHT
TZOFFSETFROM:-0500
TZOFFSETTO:-0400
TZNAME:EDT
DTSTART:20240310T070000
END:DAYLIGHT
BEGIN:STANDARD
TZOFFSETFROM:-0400
TZOFFSETTO:-0500
TZNAME:EST
DTSTART:20241103T060000
END:STANDARD
BEGIN:DAYLIGHT
TZOFFSETFROM:-0500
TZOFFSETTO:-0400
TZNAME:EDT
DTSTART:20250309T070000
END:DAYLIGHT
BEGIN:STANDARD
TZOFFSETFROM:-0400
TZOFFSETTO:-0500
TZNAME:EST
DTSTART:20251102T060000
END:STANDARD
BEGIN:DAYLIGHT
TZOFFSETFROM:-0500
TZOFFSETTO:-0400
TZNAME:EDT
DTSTART:20260308T070000
END:DAYLIGHT
BEGIN:STANDARD
TZOFFSETFROM:-0400
TZOFFSETTO:-0500
TZNAME:EST
DTSTART:20261101T060000
END:STANDARD
BEGIN:DAYLIGHT
TZOFFSETFROM:-0500
TZOFFSETTO:-0400
TZNAME:EDT
DTSTART:20270314T070000
END:DAYLIGHT
BEGIN:STANDARD
TZOFFSETFROM:-0400
TZOFFSETTO:-0500
TZNAME:EST
DTSTART:20271107T060000
END:STANDARD
END:VTIMEZONE
BEGIN:VEVENT
DTSTART;VALUE=DATE:20260317
DTEND;VALUE=DATE:20260318
DTSTAMP:20260425T112219
CREATED:20231220T161253Z
LAST-MODIFIED:20231220T161253Z
UID:10000739-1773705600-1773791999@vjrussolaw.com
SUMMARY:St. Patrick's Day
DESCRIPTION:
URL:https://vjrussolaw.com/event/st-patricks-day/2026-03-17/
LOCATION:Holiday
CATEGORIES:Holiday
ORGANIZER;CN="Russo Law Group":MAILTO:info@vjrussolaw.com
END:VEVENT
BEGIN:VEVENT
DTSTART;VALUE=DATE:20260216
DTEND;VALUE=DATE:20260217
DTSTAMP:20260425T112219
CREATED:20260204T190943Z
LAST-MODIFIED:20260204T190943Z
UID:10001026-1771200000-1771286399@vjrussolaw.com
SUMMARY:Office Closed
DESCRIPTION:Russo Law Group will be closed on Monday\, February 16th in observance of Presidents’ Day. \nWe will be re-opening our offices on Tuesday\, February 17th  at 9:00 am ET.
URL:https://vjrussolaw.com/event/office-closed/
LOCATION:Holiday
CATEGORIES:Client Portal,Holiday
ORGANIZER;CN="Russo Law Group":MAILTO:info@vjrussolaw.com
END:VEVENT
BEGIN:VEVENT
DTSTART;VALUE=DATE:20260214
DTEND;VALUE=DATE:20260215
DTSTAMP:20260425T112219
CREATED:20231220T160232Z
LAST-MODIFIED:20231220T160932Z
UID:10000733-1771027200-1771113599@vjrussolaw.com
SUMMARY:Valentine's Day
DESCRIPTION:
URL:https://vjrussolaw.com/event/valentines-day-2024/2026-02-14/
LOCATION:Holiday
CATEGORIES:Holiday
ORGANIZER;CN="Russo Law Group":MAILTO:info@vjrussolaw.com
END:VEVENT
BEGIN:VEVENT
DTSTART;VALUE=DATE:20260119
DTEND;VALUE=DATE:20260120
DTSTAMP:20260425T112219
CREATED:20250102T175652Z
LAST-MODIFIED:20251222T162745Z
UID:10000953-1768780800-1768867199@vjrussolaw.com
SUMMARY:Office Closed
DESCRIPTION:Russo Law Group will be closed on Monday\, January 19th in observance of Martin Luther King\, Jr. Day. \nWe will be re-opening our offices on Tuesday\, January 20th  at 9:00 am ET.
URL:https://vjrussolaw.com/event/office-closed-jan-19-2026/
LOCATION:Holiday
CATEGORIES:Client Portal,Holiday
ORGANIZER;CN="Russo Law Group":MAILTO:info@vjrussolaw.com
END:VEVENT
BEGIN:VEVENT
DTSTART;VALUE=DATE:20260101
DTEND;VALUE=DATE:20260103
DTSTAMP:20260425T112219
CREATED:20251222T162457Z
LAST-MODIFIED:20251222T162457Z
UID:10001023-1767225600-1767398399@vjrussolaw.com
SUMMARY:Office Closed
DESCRIPTION:Russo Law Group will be closed on Thursday\, January 1st and Friday\, January 2nd. \nWe will be re-opening our offices on Monday\, January 5th at 9:00 am ET.
URL:https://vjrussolaw.com/event/office-closed-jan-2026/
LOCATION:Holiday
CATEGORIES:Client Portal,Holiday
ORGANIZER;CN="Russo Law Group":MAILTO:info@vjrussolaw.com
END:VEVENT
BEGIN:VEVENT
DTSTART;VALUE=DATE:20251225
DTEND;VALUE=DATE:20251227
DTSTAMP:20260425T112219
CREATED:20250102T181232Z
LAST-MODIFIED:20250102T181232Z
UID:10000961-1766620800-1766793599@vjrussolaw.com
SUMMARY:Office Closed
DESCRIPTION:Russo Law Group will be closed on Thursday\, December 25th and Friday\, December 26th. \nWe will be re-opening our offices on Monday\, December 29th at 9:00 am ET.
URL:https://vjrussolaw.com/event/office-closed-dec-2025/
LOCATION:Holiday
CATEGORIES:Client Portal,Holiday
ORGANIZER;CN="Russo Law Group":MAILTO:info@vjrussolaw.com
END:VEVENT
BEGIN:VEVENT
DTSTART;VALUE=DATE:20251127
DTEND;VALUE=DATE:20251129
DTSTAMP:20260425T112219
CREATED:20250102T181014Z
LAST-MODIFIED:20250102T181014Z
UID:10000960-1764201600-1764374399@vjrussolaw.com
SUMMARY:Office Closed
DESCRIPTION:Russo Law Group will be closed on Thursday\, November 27th and Friday\, November 28th in observance of Thanksgiving. \nWe will be re-opening our offices on Monday\, December 1st at 9:00 am ET.
URL:https://vjrussolaw.com/event/office-closed-thanksgiving-2025/
LOCATION:Holiday
CATEGORIES:Client Portal,Holiday
ORGANIZER;CN="Russo Law Group":MAILTO:info@vjrussolaw.com
END:VEVENT
BEGIN:VEVENT
DTSTART;VALUE=DATE:20251111
DTEND;VALUE=DATE:20251112
DTSTAMP:20260425T112219
CREATED:20231220T172308Z
LAST-MODIFIED:20231220T172308Z
UID:10000760-1762819200-1762905599@vjrussolaw.com
SUMMARY:Veteran's Day
DESCRIPTION:
URL:https://vjrussolaw.com/event/veterans-day/2025-11-11/
LOCATION:Holiday
CATEGORIES:Holiday
ORGANIZER;CN="Russo Law Group":MAILTO:info@vjrussolaw.com
END:VEVENT
BEGIN:VEVENT
DTSTART;VALUE=DATE:20251031
DTEND;VALUE=DATE:20251101
DTSTAMP:20260425T112219
CREATED:20231220T172016Z
LAST-MODIFIED:20231220T172016Z
UID:10000755-1761868800-1761955199@vjrussolaw.com
SUMMARY:Halloween
DESCRIPTION:
URL:https://vjrussolaw.com/event/halloween-2/2025-10-31/
LOCATION:Holiday
CATEGORIES:Holiday
ORGANIZER;CN="Russo Law Group":MAILTO:info@vjrussolaw.com
END:VEVENT
BEGIN:VEVENT
DTSTART;VALUE=DATE:20251013
DTEND;VALUE=DATE:20251014
DTSTAMP:20260425T112219
CREATED:20250102T180758Z
LAST-MODIFIED:20250102T180758Z
UID:10000959-1760313600-1760399999@vjrussolaw.com
SUMMARY:Office Closed
DESCRIPTION:Russo Law Group will be closed on Monday\, October 13th. \nWe will be re-opening our offices on Tuesday\, October 14th at 9:00 am ET.
URL:https://vjrussolaw.com/event/office-closed-oct-13-2025/
LOCATION:Holiday
CATEGORIES:Client Portal,Holiday
ORGANIZER;CN="Russo Law Group":MAILTO:info@vjrussolaw.com
END:VEVENT
BEGIN:VEVENT
DTSTART;VALUE=DATE:20250911
DTEND;VALUE=DATE:20250912
DTSTAMP:20260425T112219
CREATED:20231220T170447Z
LAST-MODIFIED:20231220T170447Z
UID:10000749-1757548800-1757635199@vjrussolaw.com
SUMMARY:9/11 Remembrance Day
DESCRIPTION:
URL:https://vjrussolaw.com/event/9-11-remembrance-day/2025-09-11/
LOCATION:Holiday
CATEGORIES:Holiday
ORGANIZER;CN="Russo Law Group":MAILTO:info@vjrussolaw.com
END:VEVENT
BEGIN:VEVENT
DTSTART;VALUE=DATE:20250901
DTEND;VALUE=DATE:20250902
DTSTAMP:20260425T112219
CREATED:20250102T180634Z
LAST-MODIFIED:20250102T180634Z
UID:10000958-1756684800-1756771199@vjrussolaw.com
SUMMARY:Office Closed
DESCRIPTION:Russo Law Group will be closed on Monday\, September 1st in observance of Labor Day. \nWe will be re-opening our offices on Tuesday\, September 2nd at 9:00 am ET.
URL:https://vjrussolaw.com/event/office-closed-sept-1-2025/
LOCATION:Holiday
CATEGORIES:Client Portal,Holiday
ORGANIZER;CN="Russo Law Group":MAILTO:info@vjrussolaw.com
END:VEVENT
BEGIN:VEVENT
DTSTART;VALUE=DATE:20250704
DTEND;VALUE=DATE:20250705
DTSTAMP:20260425T112219
CREATED:20250102T180503Z
LAST-MODIFIED:20250102T180503Z
UID:10000957-1751587200-1751673599@vjrussolaw.com
SUMMARY:Office Closed
DESCRIPTION:Russo Law Group will be closed on Friday\, July 4th in observance of Independence Day. \nWe will be re-opening our offices on Monday\, July 7th at 9:00 am ET.
URL:https://vjrussolaw.com/event/office-closed-july-4-2025/
LOCATION:Holiday
CATEGORIES:Client Portal,Holiday
ORGANIZER;CN="Russo Law Group":MAILTO:info@vjrussolaw.com
END:VEVENT
BEGIN:VEVENT
DTSTART;VALUE=DATE:20250619
DTEND;VALUE=DATE:20250620
DTSTAMP:20260425T112219
CREATED:20250102T180339Z
LAST-MODIFIED:20250102T180339Z
UID:10000956-1750291200-1750377599@vjrussolaw.com
SUMMARY:Office Closed
DESCRIPTION:Russo Law Group will be closed on Thursday\, June 19th in observance of Juneteenth. \nWe will be re-opening our offices on Friday\, June 20th at 9:00 am ET.
URL:https://vjrussolaw.com/event/office-closed-june-19-2025/
LOCATION:Holiday
CATEGORIES:Client Portal,Holiday
ORGANIZER;CN="Russo Law Group":MAILTO:info@vjrussolaw.com
END:VEVENT
BEGIN:VEVENT
DTSTART;VALUE=DATE:20250526
DTEND;VALUE=DATE:20250527
DTSTAMP:20260425T112219
CREATED:20250102T180110Z
LAST-MODIFIED:20250102T180110Z
UID:10000955-1748217600-1748303999@vjrussolaw.com
SUMMARY:Office Closed
DESCRIPTION:Russo Law Group will be closed on Monday\, May 26th in observance of Memorial Day. \nWe will be re-opening our offices on Tuesday\, May 27th at 9:00 am ET.
URL:https://vjrussolaw.com/event/office-closed-may-26-2025/
LOCATION:Holiday
CATEGORIES:Client Portal,Holiday
ORGANIZER;CN="Russo Law Group":MAILTO:info@vjrussolaw.com
END:VEVENT
BEGIN:VEVENT
DTSTART;VALUE=DATE:20250317
DTEND;VALUE=DATE:20250318
DTSTAMP:20260425T112219
CREATED:20231220T161253Z
LAST-MODIFIED:20231220T161253Z
UID:10000738-1742169600-1742255999@vjrussolaw.com
SUMMARY:St. Patrick's Day
DESCRIPTION:
URL:https://vjrussolaw.com/event/st-patricks-day/2025-03-17/
LOCATION:Holiday
CATEGORIES:Holiday
ORGANIZER;CN="Russo Law Group":MAILTO:info@vjrussolaw.com
END:VEVENT
BEGIN:VEVENT
DTSTART;VALUE=DATE:20250217
DTEND;VALUE=DATE:20250218
DTSTAMP:20260425T112219
CREATED:20250102T175913Z
LAST-MODIFIED:20250102T175913Z
UID:10000954-1739750400-1739836799@vjrussolaw.com
SUMMARY:Office Closed
DESCRIPTION:Russo Law Group will be closed on Monday\, February 17th in observance of President’s Day. \nWe will be re-opening our offices on Tuesday\, February 18th at 9:00 am ET.
URL:https://vjrussolaw.com/event/office-closed-feb-17-2025/
LOCATION:Holiday
CATEGORIES:Client Portal,Holiday
ORGANIZER;CN="Russo Law Group":MAILTO:info@vjrussolaw.com
END:VEVENT
BEGIN:VEVENT
DTSTART;VALUE=DATE:20250214
DTEND;VALUE=DATE:20250215
DTSTAMP:20260425T112219
CREATED:20231220T160232Z
LAST-MODIFIED:20231220T160932Z
UID:10000732-1739491200-1739577599@vjrussolaw.com
SUMMARY:Valentine's Day
DESCRIPTION:
URL:https://vjrussolaw.com/event/valentines-day-2024/2025-02-14/
LOCATION:Holiday
CATEGORIES:Holiday
ORGANIZER;CN="Russo Law Group":MAILTO:info@vjrussolaw.com
END:VEVENT
BEGIN:VEVENT
DTSTART;VALUE=DATE:20250129
DTEND;VALUE=DATE:20250130
DTSTAMP:20260425T112219
CREATED:20250114T200116Z
LAST-MODIFIED:20250114T200116Z
UID:10000962-1738108800-1738195199@vjrussolaw.com
SUMMARY:Lunar New Year
DESCRIPTION:
URL:https://vjrussolaw.com/event/lunar-new-year-2025/
LOCATION:Holiday
CATEGORIES:Holiday
ORGANIZER;CN="Russo Law Group":MAILTO:info@vjrussolaw.com
END:VEVENT
BEGIN:VEVENT
DTSTART;VALUE=DATE:20250120
DTEND;VALUE=DATE:20250121
DTSTAMP:20260425T112219
CREATED:20251222T163042Z
LAST-MODIFIED:20251222T163042Z
UID:10001024-1737331200-1737417599@vjrussolaw.com
SUMMARY:Office Closed
DESCRIPTION:Russo Law Group will be closed on Monday\, January 20th in observance of Martin Luther King\, Jr. Day. \nWe will be re-opening our offices on Tuesday\, January 21st  at 9:00 am ET.
URL:https://vjrussolaw.com/event/office-closed-jan-20-2025/
LOCATION:Holiday
CATEGORIES:Client Portal,Holiday
ORGANIZER;CN="Russo Law Group":MAILTO:info@vjrussolaw.com
END:VEVENT
BEGIN:VEVENT
DTSTART;VALUE=DATE:20250101
DTEND;VALUE=DATE:20250102
DTSTAMP:20260425T112219
CREATED:20250102T175424Z
LAST-MODIFIED:20250102T175741Z
UID:10000952-1735689600-1735775999@vjrussolaw.com
SUMMARY:Office Closed
DESCRIPTION:Russo Law Group will be closed on Wednesday\, January 1st in observance of New Year’s Day. \nWe will be re-opening our offices on Thursday\, January 2nd at 9:00 am ET.
URL:https://vjrussolaw.com/event/office-closed-jan-1-2025/
LOCATION:Holiday
CATEGORIES:Client Portal,Holiday
ORGANIZER;CN="Russo Law Group":MAILTO:info@vjrussolaw.com
END:VEVENT
BEGIN:VEVENT
DTSTART;VALUE=DATE:20241231
DTEND;VALUE=DATE:20250101
DTSTAMP:20260425T112219
CREATED:20210107T212628Z
LAST-MODIFIED:20210414T135748Z
UID:10000433-1735603200-1735689599@vjrussolaw.com
SUMMARY:New Years Eve (Offices Closed)
DESCRIPTION:Please note our offices will be closed in observance of New Years Eve.
URL:https://vjrussolaw.com/event/new-years-eve-2021/2024-12-31/
LOCATION:Holiday
CATEGORIES:Holiday
ORGANIZER;CN="Russo Law Group":MAILTO:info@vjrussolaw.com
END:VEVENT
BEGIN:VEVENT
DTSTART;VALUE=DATE:20241225
DTEND;VALUE=DATE:20241226
DTSTAMP:20260425T112219
CREATED:20231206T192205Z
LAST-MODIFIED:20231206T192205Z
UID:10000721-1735084800-1735171199@vjrussolaw.com
SUMMARY:Office Closed
DESCRIPTION:Russo Law Group will be closed on Wednesday\, December 25th in observance of Christmas Day. \nWe will be re-opening our offices on Thursday\, December 26th at 9:00 am ET.
URL:https://vjrussolaw.com/event/office-closed-dec-25-2024/
LOCATION:Holiday
CATEGORIES:Holiday
ORGANIZER;CN="Russo Law Group":MAILTO:info@vjrussolaw.com
END:VEVENT
BEGIN:VEVENT
DTSTART;VALUE=DATE:20241225
DTEND;VALUE=DATE:20241226
DTSTAMP:20260425T112219
CREATED:20210107T212519Z
LAST-MODIFIED:20210414T135943Z
UID:10000429-1735084800-1735171199@vjrussolaw.com
SUMMARY:Christmas Day
DESCRIPTION:Merry Christmas!
URL:https://vjrussolaw.com/event/christmas-day-2021/2024-12-25/
LOCATION:Holiday
CATEGORIES:Holiday
ORGANIZER;CN="Russo Law Group":MAILTO:info@vjrussolaw.com
END:VEVENT
BEGIN:VEVENT
DTSTART;VALUE=DATE:20241203
DTEND;VALUE=DATE:20241204
DTSTAMP:20260425T112219
CREATED:20231220T173609Z
LAST-MODIFIED:20231220T173609Z
UID:10000765-1733184000-1733270399@vjrussolaw.com
SUMMARY:International Day of Persons with Disabilities
DESCRIPTION:
URL:https://vjrussolaw.com/event/intl-day-of-persons-with-disabilities-2024/
LOCATION:Holiday
CATEGORIES:Holiday
ORGANIZER;CN="Russo Law Group":MAILTO:info@vjrussolaw.com
END:VEVENT
BEGIN:VEVENT
DTSTART;VALUE=DATE:20241203
DTEND;VALUE=DATE:20241204
DTSTAMP:20260425T112219
CREATED:20231220T173201Z
LAST-MODIFIED:20231220T173201Z
UID:10000764-1733184000-1733270399@vjrussolaw.com
SUMMARY:GivingTuesday
DESCRIPTION:
URL:https://vjrussolaw.com/event/giving-tuesday-2024/
LOCATION:Holiday
CATEGORIES:Holiday
ORGANIZER;CN="Russo Law Group":MAILTO:info@vjrussolaw.com
END:VEVENT
BEGIN:VEVENT
DTSTART;VALUE=DATE:20241128
DTEND;VALUE=DATE:20241130
DTSTAMP:20260425T112219
CREATED:20231206T191957Z
LAST-MODIFIED:20231206T191957Z
UID:10000720-1732752000-1732924799@vjrussolaw.com
SUMMARY:Office Closed
DESCRIPTION:Russo Law Group will be closed on Thursday\, November 28th and Friday\, November 29th in observance of Thanksgiving. \nWe will be re-opening our offices on Monday\, December 2nd at 9:00 am ET.
URL:https://vjrussolaw.com/event/office-closed-thanksgiving-2024/
LOCATION:Holiday
CATEGORIES:Holiday
ORGANIZER;CN="Russo Law Group":MAILTO:info@vjrussolaw.com
END:VEVENT
BEGIN:VEVENT
DTSTART;VALUE=DATE:20241128
DTEND;VALUE=DATE:20241129
DTSTAMP:20260425T112219
CREATED:20231206T192340Z
LAST-MODIFIED:20231206T192340Z
UID:10000722-1732752000-1732838399@vjrussolaw.com
SUMMARY:Thanksgiving Day
DESCRIPTION:
URL:https://vjrussolaw.com/event/thanksgiving-2024/
LOCATION:Holiday
CATEGORIES:Holiday
ORGANIZER;CN="Russo Law Group":MAILTO:info@vjrussolaw.com
END:VEVENT
BEGIN:VEVENT
DTSTART;VALUE=DATE:20241111
DTEND;VALUE=DATE:20241112
DTSTAMP:20260425T112219
CREATED:20231220T172308Z
LAST-MODIFIED:20231220T172308Z
UID:10000759-1731283200-1731369599@vjrussolaw.com
SUMMARY:Veteran's Day
DESCRIPTION:
URL:https://vjrussolaw.com/event/veterans-day/2024-11-11/
LOCATION:Holiday
CATEGORIES:Holiday
ORGANIZER;CN="Russo Law Group":MAILTO:info@vjrussolaw.com
END:VEVENT
BEGIN:VEVENT
DTSTART;VALUE=DATE:20241031
DTEND;VALUE=DATE:20241101
DTSTAMP:20260425T112219
CREATED:20231220T172016Z
LAST-MODIFIED:20231220T172016Z
UID:10000754-1730332800-1730419199@vjrussolaw.com
SUMMARY:Halloween
DESCRIPTION:
URL:https://vjrussolaw.com/event/halloween-2/2024-10-31/
LOCATION:Holiday
CATEGORIES:Holiday
ORGANIZER;CN="Russo Law Group":MAILTO:info@vjrussolaw.com
END:VEVENT
END:VCALENDAR