BEGIN:VCALENDAR
VERSION:2.0
PRODID:-//Russo Law Group - ECPv6.15.20//NONSGML v1.0//EN
CALSCALE:GREGORIAN
METHOD:PUBLISH
X-ORIGINAL-URL:https://vjrussolaw.com
X-WR-CALDESC:Events for Russo Law Group
REFRESH-INTERVAL;VALUE=DURATION:PT1H
X-Robots-Tag:noindex
X-PUBLISHED-TTL:PT1H
BEGIN:VTIMEZONE
TZID:America/New_York
BEGIN:DAYLIGHT
TZOFFSETFROM:-0500
TZOFFSETTO:-0400
TZNAME:EDT
DTSTART:20240310T070000
END:DAYLIGHT
BEGIN:STANDARD
TZOFFSETFROM:-0400
TZOFFSETTO:-0500
TZNAME:EST
DTSTART:20241103T060000
END:STANDARD
BEGIN:DAYLIGHT
TZOFFSETFROM:-0500
TZOFFSETTO:-0400
TZNAME:EDT
DTSTART:20250309T070000
END:DAYLIGHT
BEGIN:STANDARD
TZOFFSETFROM:-0400
TZOFFSETTO:-0500
TZNAME:EST
DTSTART:20251102T060000
END:STANDARD
BEGIN:DAYLIGHT
TZOFFSETFROM:-0500
TZOFFSETTO:-0400
TZNAME:EDT
DTSTART:20260308T070000
END:DAYLIGHT
BEGIN:STANDARD
TZOFFSETFROM:-0400
TZOFFSETTO:-0500
TZNAME:EST
DTSTART:20261101T060000
END:STANDARD
END:VTIMEZONE
BEGIN:VEVENT
DTSTART;TZID=America/New_York:20250318T090000
DTEND;TZID=America/New_York:20250318T100000
DTSTAMP:20260421T090514
CREATED:20250129T182417Z
LAST-MODIFIED:20250310T191226Z
UID:10000964-1742288400-1742292000@vjrussolaw.com
SUMMARY:Monthly Coffee & Conversation
DESCRIPTION:Have questions about estate planning\, elder law\, or special needs planning? Or maybe you’re just curious about how to secure peace of mind for the future? We’d love to meet you! \nAt Russo Law Group\, we understand that important conversations are better over a warm cup of coffee. That’s why we established our monthly “Coffee & Conversation” series. This is your chance to connect with our experienced attorneys in a relaxed\, informal setting. \nWhat to Expect: \n\nA friendly\, approachable atmosphere where you can openly discuss your questions and concerns.\nComplimentary fresh-brewed coffee and delicious bagels to enjoy during the conversation.\nInsightful guidance on estate planning\, elder law\, and special needs planning for you and your loved ones.\n\nWhether you’re a current client or considering your options\, this is a perfect way to explore how we can help you plan for the future while getting to know our team. No pressure\, no judgment—just genuine conversations and helpful advice. \nStay informed\, enjoy complimentary coffee and bagels\, and take the first step toward protecting what matters most. We can’t wait to see you there! \n\nSubmit any further questions to Janet Corsetti at jcorsetti@vjrussolaw.com 
URL:https://vjrussolaw.com/event/coffee-convo-march-2025/
LOCATION:Russo Law Group Islandia Office\, 3740 Express Drive S.\, Islandia\, NY\, 11749\, United States
CATEGORIES:Client Portal,Elder Law,Estate Planning,Public Events,Special Needs
ORGANIZER;CN="Russo Law Group":MAILTO:info@vjrussolaw.com
END:VEVENT
BEGIN:VEVENT
DTSTART;TZID=America/New_York:20250326T130000
DTEND;TZID=America/New_York:20250326T133000
DTSTAMP:20260421T090514
CREATED:20250226T164456Z
LAST-MODIFIED:20250314T195319Z
UID:10000967-1742994000-1742995800@vjrussolaw.com
SUMMARY:Free Webinar: "The Key Steps to Special Needs Planning Success"
DESCRIPTION:Planning for the future of a loved one with special needs can feel overwhelming\, but you don’t have to do it alone. Join our free webinar on Special Needs Planning\, where we’ll provide clear\, practical guidance to help you make informed decisions for your family. \nCLICK HERE to secure your spot! \nWhat you’ll learn: \n\nHow to create a financial and legal plan tailored to your loved one’s unique needs.\nThe role of Special Needs Trusts and how they protect eligibility for benefits.\nPreparing for future care and resources to ensure long-term security.\n\nTake this opportunity to get your questions answered and gain peace of mind knowing you’re creating a solid plan for your loved one’s future. \nCLICK HERE now to secure your spot! We look forward to supporting you and your family. \nSubmit any further questions to Janet Corsetti at jcorsetti@vjrussolaw.com
URL:https://vjrussolaw.com/event/webinar-march-2025/
LOCATION:Zoom Virtual Meeting
CATEGORIES:Client Portal,Special Needs,Webinar
ORGANIZER;CN="Russo Law Group":MAILTO:info@vjrussolaw.com
END:VEVENT
END:VCALENDAR